BEGIN:VCALENDAR
VERSION:2.0
PRODID:Events Booking
BEGIN:VEVENT
UID:69ea069ab46d8
SUMMARY:CAM-I Winter Meeting December 2024
DESCRIPTION:
DTSTART:20241209T160000Z
DTEND:20241210T070000Z
DTSTAMP:20241026T224817Z
ORGANIZER;CN=Ashok Vadgama:MAILTO:ashok@cam-i.org
END:VEVENT
END:VCALENDAR